BEGIN:VCALENDAR
VERSION:2.0
PRODID:-//Train Teach Lead - ECPv6.15.20//NONSGML v1.0//EN
CALSCALE:GREGORIAN
METHOD:PUBLISH
X-WR-CALNAME:Train Teach Lead
X-ORIGINAL-URL:https://trainteachlead.com
X-WR-CALDESC:Events for Train Teach Lead
REFRESH-INTERVAL;VALUE=DURATION:PT1H
X-Robots-Tag:noindex
X-PUBLISHED-TTL:PT1H
BEGIN:VTIMEZONE
TZID:UTC
BEGIN:STANDARD
TZOFFSETFROM:+0000
TZOFFSETTO:+0000
TZNAME:UTC
DTSTART:20250101T000000
END:STANDARD
END:VTIMEZONE
BEGIN:VEVENT
DTSTART;TZID=UTC:20260531T133000
DTEND;TZID=UTC:20260531T173000
DTSTAMP:20260421T193856
CREATED:20260305T223858Z
LAST-MODIFIED:20260305T223858Z
UID:767-1780234200-1780248600@trainteachlead.com
SUMMARY:Smoky Mountain Weekend: Achieving Excellence - Measuring and Improving Department Performance
DESCRIPTION:4‑Hour Interactive Workshop \n\nMost fire departments want to be excellent—but many struggle to clearly define what that actually means. Without objective measures\, improvement efforts can turn into opinion‑based debates\, personality conflicts\, or “we’ve always done it this way” conversations. This workshop is about moving past that and giving leaders practical tools to measure\, assess\, and improve performance with clarity and confidence. \nAchieving Excellence is a four‑hour\, hands‑on workshop focused on using data—not emotion—to understand where your department stands today and where it needs to go next. Participants will explore how NFPA standards\, performance metrics\, and operational data can support better decisions\, strengthen credibility\, and create a culture that recognizes and supports high performers. \nThis isn’t about chasing perfection or comparing your department to others. It’s about defining what excellence looks like for your organization\, establishing a realistic baseline\, and identifying meaningful opportunities for improvement. Each participant will complete a private\, confidential assessment of their own department using provided tools—allowing for honest reflection without public scrutiny. \nDuring this workshop\, participants will:\n\nUnderstand how NFPA standards and public‑sector requirements apply to real operations\nIdentify meaningful benchmarks and performance indicators\nLearn how to capture and use operational data to support decisions\nEstablish a clear baseline of current departmental performance\nConduct a private self‑assessment to identify strengths and gaps\nSet realistic\, data‑driven goals for continuous improvement\n\nThis workshop is designed for career\, combination\, and volunteer firefighters\, officers\, chiefs\, and municipal leaders who want to improve performance without losing sight of culture\, people\, and purpose. \nIf you’ve ever been asked “How do we know we’re doing well?”—or struggled to justify change with more than gut instinct—this session will give you practical tools to answer that question with confidence.
URL:https://trainteachlead.com/event/smoky-mountain-weekend-achieving-excellence-measuring-and-improving-department-performance/
LOCATION:Gatlinburg Convention Center\, 234 Airport Road\, Gatlinburg\, TN\, 37738\, United States
CATEGORIES:Fire Conference
ATTACH;FMTTYPE=image/jpeg:https://trainteachlead.com/wp-content/uploads/2026/03/IMG_9310.jpeg
END:VEVENT
BEGIN:VEVENT
DTSTART;TZID=UTC:20260624T091500
DTEND;TZID=UTC:20260624T101500
DTSTAMP:20260421T193856
CREATED:20251118T220146Z
LAST-MODIFIED:20260122T011601Z
UID:274-1782292500-1782296100@trainteachlead.com
SUMMARY:How Fast is Your Rescue - 2026 NFPA Conference and Expo
DESCRIPTION:🚨 Exciting news! I’ll be presenting at the 2026 NFPA Conference & Expo in Las Vegas\, June 22–24. My session\, “How Fast is Your Rescue: Using NFPA 350 for Safer Confined Space Operations\,” will explore practical strategies for applying NFPA 350 guidance to improve safety\, efficiency\, and rescue readiness in confined space incidents. \nThis premier event brings together thousands of fire and life safety professionals from around the world — I’m honored to contribute to the conversation on advancing safer operations. \n🎯 About the NFPA Conference & Expo\n\nPremier Fire & Life Safety Event: The NFPA Conference & Expo is one of the largest gatherings of fire\, electrical\, building\, and life safety professionals worldwide.\nEducational Program: Over 130 live sessions\, workshops\, and on-demand opportunities covering fire prevention\, hazardous materials\, electrical safety\, community risk reduction\, and more.\nExpo Hall: 420+ exhibitors showcasing the latest products\, technologies\, and solutions for safety professionals.\nNetworking: Attendees include fire service leaders\, engineers\, contractors\, building managers\, and safety experts from more than 60 countries.\n\nLearn more and register: LINK
URL:https://trainteachlead.com/event/how-fast-is-your-rescue-2026-nfpa-conference-and-expo/
LOCATION:Mandalay Bay Convention Center\, 3950 S Las Vegas Blvd\, Las Vegaa\, 89119\, United States
CATEGORIES:Fire Conference
ATTACH;FMTTYPE=image/png:https://trainteachlead.com/wp-content/uploads/2025/11/IMG_8377.png
END:VEVENT
BEGIN:VEVENT
DTSTART;TZID=UTC:20260624T140000
DTEND;TZID=UTC:20260624T150000
DTSTAMP:20260421T193856
CREATED:20251219T022830Z
LAST-MODIFIED:20260122T011657Z
UID:394-1782309600-1782313200@trainteachlead.com
SUMMARY:Leadership Accountability: Leading With Trust\, Not Micromanagement - 2026 NFPA Conference and Expo
DESCRIPTION:Join Alex Zielinski\, Deputy Chief & Division Chief for a powerful session on leadership in the fire service. \nThis session will explore: \nThis session equips company officers with essential tools to lead effectively without falling into the trap of micromanagement. Participants will learn how to balance oversight with autonomy\, foster trust\, and maintain high performance. Through focused discussion and real-world examples\, officers will gain confidence in managing personnel while encouraging leadership growth within their teams. \nAbout the NFPA Conference & Expo \nThe NFPA Conference & Expo is the premier annual event for fire\, electrical\, and building safety professionals. \nAttendees gain access to: \n\nEducational sessions led by industry experts.\nExpo floor showcasing the latest products\, technologies\, and solutions for safety and emergency management.\nNetworking opportunities with peers\, thought leaders\, and innovators from around the world.\nStandards development sessions that shape the future of codes and practices.
URL:https://trainteachlead.com/event/leadership-accountability-leading-with-trust-not-micromanagement-2026-nfpa-conference-and-expo/
LOCATION:Mandalay Bay Convention Center\, 3950 S Las Vegas Blvd\, Las Vegaa\, 89119\, United States
CATEGORIES:Fire Conference
ATTACH;FMTTYPE=image/png:https://trainteachlead.com/wp-content/uploads/2025/11/IMG_8377.png
END:VEVENT
END:VCALENDAR