BEGIN:VCALENDAR
VERSION:2.0
PRODID:-//Train Teach Lead - ECPv6.15.20//NONSGML v1.0//EN
CALSCALE:GREGORIAN
METHOD:PUBLISH
X-WR-CALNAME:Train Teach Lead
X-ORIGINAL-URL:https://trainteachlead.com
X-WR-CALDESC:Events for Train Teach Lead
REFRESH-INTERVAL;VALUE=DURATION:PT1H
X-Robots-Tag:noindex
X-PUBLISHED-TTL:PT1H
BEGIN:VTIMEZONE
TZID:UTC
BEGIN:STANDARD
TZOFFSETFROM:+0000
TZOFFSETTO:+0000
TZNAME:UTC
DTSTART:20240101T000000
END:STANDARD
END:VTIMEZONE
BEGIN:VEVENT
DTSTART;TZID=UTC:20260201T080000
DTEND;TZID=UTC:20260201T120000
DTSTAMP:20260421T170803
CREATED:20250920T040410Z
LAST-MODIFIED:20251207T154148Z
UID:104-1769932800-1769947200@trainteachlead.com
SUMMARY:2026 Winter Fire School - Leading With Trust
DESCRIPTION:As part of the Indiana Fire Academy’s 3rd annual Winter Fire School\, Alex Zielinski will be presenting a 4-hour program titled “Leadership Accountability: Leading With Tust\, Not Micromanagement.” \nThis program dives deeper into strategies for new officers and administrators as well as how to counteract and build relationships when subjected to a micromanager. \nThis program provides strategies you can implement today to build trust and lead teams with confidence. Aspiring\, new\, and experienced leaders will benefit from the strategies and plans we’ll use to build stronger\, more resilient crews. \nRegister for this interactive workshop: Acadis Registration
URL:https://trainteachlead.com/event/2026-winter-fire-school-leading-with-trust/
LOCATION:Made@Plainfield\, 1610 Reeves Road\, Plainfield\, 46168\, United States
CATEGORIES:Fire Conference
ATTACH;FMTTYPE=image/png:https://trainteachlead.com/wp-content/uploads/2025/09/IMG_7962.png
END:VEVENT
BEGIN:VEVENT
DTSTART;TZID=UTC:20251027T090000
DTEND;TZID=UTC:20251027T110000
DTSTAMP:20260421T170803
CREATED:20251007T002525Z
LAST-MODIFIED:20251007T002525Z
UID:157-1761555600-1761562800@trainteachlead.com
SUMMARY:B.O.S.S. Series: Leadership Accountability
DESCRIPTION:A free class hosted at the Emergency Services Education Center. Attend in-person or watch the live stream. Let’s talk about micromanagement and how to do a great job without it!
URL:https://trainteachlead.com/event/b-o-s-s-series-leadership-accountability/
LOCATION:Emergency Services Education Center\, 700 N High School Road\, Indianapolis\, IN\, 46163\, United States
CATEGORIES:Online Event
ATTACH;FMTTYPE=image/jpeg:https://trainteachlead.com/wp-content/uploads/2025/10/IMG_8040.jpeg
END:VEVENT
BEGIN:VEVENT
DTSTART;TZID=UTC:20250814T103000
DTEND;TZID=UTC:20250814T120000
DTSTAMP:20260421T170803
CREATED:20250919T101003Z
LAST-MODIFIED:20250919T101003Z
UID:94-1755167400-1755172800@trainteachlead.com
SUMMARY:Leadership Accountability: Leading With Trust\, Not Micromanagement
DESCRIPTION:As part of the IAFC’s Officer Development Program Alex will be presenting at 2025 Fire-Rescue International in Orlando\, Florida. \nThis course equips company officers with the tools to lead effectively without falling into the trap of micromanagement. Participants will explore the balance between oversight and autonomy\, learning how to foster trust\, accountability\, and high performance within their teams. Through real-world examples and practical strategies\, officers will gain confidence and managing personnel while developing future leaders in the fire service. \n\nLearning Objectives:\n\nIdentify how to empower firefighters while maintaining high standards.\nApply coaching techniques that develop leadership without micromanagement.\nBuild a culture of trust\, ownership\, and morale within fire crews.\nRecognize and mitigate the impact of leadership styles on team stress and burnout.
URL:https://trainteachlead.com/event/leadership-accountability-leading-with-trust-not-micromanagement/
LOCATION:Orange County Convention Center\, 9800 International Drive\, Orlando\, Florida
CATEGORIES:Fire Conference
ATTACH;FMTTYPE=image/jpeg:https://trainteachlead.com/wp-content/uploads/2025/09/IMG_7957.jpeg
END:VEVENT
END:VCALENDAR